BEGIN:VCALENDAR
VERSION:2.0
PRODID:-//Southwark Cyclists - ECPv6.15.11//NONSGML v1.0//EN
CALSCALE:GREGORIAN
METHOD:PUBLISH
X-ORIGINAL-URL:https://southwarkcyclists.org.uk
X-WR-CALDESC:Events for Southwark Cyclists
REFRESH-INTERVAL;VALUE=DURATION:PT1H
X-Robots-Tag:noindex
X-PUBLISHED-TTL:PT1H
BEGIN:VTIMEZONE
TZID:Europe/London
BEGIN:DAYLIGHT
TZOFFSETFROM:+0000
TZOFFSETTO:+0100
TZNAME:BST
DTSTART:20210328T010000
END:DAYLIGHT
BEGIN:STANDARD
TZOFFSETFROM:+0100
TZOFFSETTO:+0000
TZNAME:GMT
DTSTART:20211031T010000
END:STANDARD
BEGIN:DAYLIGHT
TZOFFSETFROM:+0000
TZOFFSETTO:+0100
TZNAME:BST
DTSTART:20220327T010000
END:DAYLIGHT
BEGIN:STANDARD
TZOFFSETFROM:+0100
TZOFFSETTO:+0000
TZNAME:GMT
DTSTART:20221030T010000
END:STANDARD
BEGIN:DAYLIGHT
TZOFFSETFROM:+0000
TZOFFSETTO:+0100
TZNAME:BST
DTSTART:20230326T010000
END:DAYLIGHT
BEGIN:STANDARD
TZOFFSETFROM:+0100
TZOFFSETTO:+0000
TZNAME:GMT
DTSTART:20231029T010000
END:STANDARD
END:VTIMEZONE
BEGIN:VEVENT
DTSTART;TZID=Europe/London:20221109T190000
DTEND;TZID=Europe/London:20221109T220000
DTSTAMP:20260423T005507
CREATED:20220926T164744Z
LAST-MODIFIED:20221018T172154Z
UID:18765-1668020400-1668031200@southwarkcyclists.org.uk
SUMMARY:Southwark Cyclists Annual General Meeting
DESCRIPTION:Provisional Programme\nReports.  General/Overview; Treasurer; Other activities (Climate Group\, Dunwich Dynamo\, Healthy Rides\, Cycle Buddies) \nElection of Officers. Group Co-ordinator\, Secretary\,Treasurer. Also at least 2 Committee members.  Appointments to other roles\, including Climate Group organiser\, Healthy Rides Co-ordinator\, Cycle Buddies organiser. \nTalk by Katy Rodda (Network Coordinator. London Cycling Campaign). Katy will make a presentation about what LCC does and how that dovetails with local group campaigning and activities. \nDiscussion. What are the priorities for 2023? \nInformal discussion with refreshments. \nThe Trunk\, from Cycleway 17 \nE & C area\, The Trunk marked \nThe Trunk\, location next to Cycleway 17
URL:https://southwarkcyclists.org.uk/events/southwark-cyclists-annual-general-meeting/
LOCATION:The Trunk\, 3 Bodley Way\, London\, SE17 1FN
CATEGORIES:AGM
ATTACH;FMTTYPE=image/png:https://southwarkcyclists.org.uk/wp-content/uploads/2022/09/AGMlogo.png
ORGANIZER;CN="Bruce Lynn":MAILTO:b.lynn@ucl.ac.uk
END:VEVENT
END:VCALENDAR