BEGIN:VCALENDAR
VERSION:2.0
PRODID:-//Southwark Cyclists - ECPv6.15.11//NONSGML v1.0//EN
CALSCALE:GREGORIAN
METHOD:PUBLISH
X-WR-CALNAME:Southwark Cyclists
X-ORIGINAL-URL:https://southwarkcyclists.org.uk
X-WR-CALDESC:Events for Southwark Cyclists
REFRESH-INTERVAL;VALUE=DURATION:PT1H
X-Robots-Tag:noindex
X-PUBLISHED-TTL:PT1H
BEGIN:VTIMEZONE
TZID:Europe/London
BEGIN:DAYLIGHT
TZOFFSETFROM:+0000
TZOFFSETTO:+0100
TZNAME:BST
DTSTART:20210328T010000
END:DAYLIGHT
BEGIN:STANDARD
TZOFFSETFROM:+0100
TZOFFSETTO:+0000
TZNAME:GMT
DTSTART:20211031T010000
END:STANDARD
BEGIN:DAYLIGHT
TZOFFSETFROM:+0000
TZOFFSETTO:+0100
TZNAME:BST
DTSTART:20220327T010000
END:DAYLIGHT
BEGIN:STANDARD
TZOFFSETFROM:+0100
TZOFFSETTO:+0000
TZNAME:GMT
DTSTART:20221030T010000
END:STANDARD
BEGIN:DAYLIGHT
TZOFFSETFROM:+0000
TZOFFSETTO:+0100
TZNAME:BST
DTSTART:20230326T010000
END:DAYLIGHT
BEGIN:STANDARD
TZOFFSETFROM:+0100
TZOFFSETTO:+0000
TZNAME:GMT
DTSTART:20231029T010000
END:STANDARD
END:VTIMEZONE
BEGIN:VEVENT
DTSTART;TZID=Europe/London:20220608T193000
DTEND;TZID=Europe/London:20220608T203000
DTSTAMP:20260423T073516
CREATED:20220604T154030Z
LAST-MODIFIED:20220604T154030Z
UID:18107-1654716600-1654720200@southwarkcyclists.org.uk
SUMMARY:Southwark Cyclists Monthly Meeting (Zoom)
DESCRIPTION:Zoom Monthly Meeting. \nLink https://us02web.zoom.us/j/82315634772?pwd=SFVFVVFidTMyOGtEWGZCNUdEb2NvZz09 \nAll members welcome. Suggestions for the Agenda to secretary@southwarkcyclists.org.uk \n  \n 
URL:https://southwarkcyclists.org.uk/events/southwark-cyclists-monthly-meeting-zoom/
LOCATION:Zoom
CATEGORIES:Monthly Meeting
END:VEVENT
END:VCALENDAR