BEGIN:VCALENDAR
VERSION:2.0
PRODID:-//Southwark Cyclists - ECPv6.15.11//NONSGML v1.0//EN
CALSCALE:GREGORIAN
METHOD:PUBLISH
X-ORIGINAL-URL:https://southwarkcyclists.org.uk
X-WR-CALDESC:Events for Southwark Cyclists
REFRESH-INTERVAL;VALUE=DURATION:PT1H
X-Robots-Tag:noindex
X-PUBLISHED-TTL:PT1H
BEGIN:VTIMEZONE
TZID:Europe/London
BEGIN:DAYLIGHT
TZOFFSETFROM:+0000
TZOFFSETTO:+0100
TZNAME:BST
DTSTART:20230326T010000
END:DAYLIGHT
BEGIN:STANDARD
TZOFFSETFROM:+0100
TZOFFSETTO:+0000
TZNAME:GMT
DTSTART:20231029T010000
END:STANDARD
BEGIN:DAYLIGHT
TZOFFSETFROM:+0000
TZOFFSETTO:+0100
TZNAME:BST
DTSTART:20240331T010000
END:DAYLIGHT
BEGIN:STANDARD
TZOFFSETFROM:+0100
TZOFFSETTO:+0000
TZNAME:GMT
DTSTART:20241027T010000
END:STANDARD
BEGIN:DAYLIGHT
TZOFFSETFROM:+0000
TZOFFSETTO:+0100
TZNAME:BST
DTSTART:20250330T010000
END:DAYLIGHT
BEGIN:STANDARD
TZOFFSETFROM:+0100
TZOFFSETTO:+0000
TZNAME:GMT
DTSTART:20251026T010000
END:STANDARD
END:VTIMEZONE
BEGIN:VEVENT
DTSTART;TZID=Europe/London:20240410T193000
DTEND;TZID=Europe/London:20240410T213000
DTSTAMP:20260422T014351
CREATED:20240216T161114Z
LAST-MODIFIED:20240410T130206Z
UID:23015-1712777400-1712784600@southwarkcyclists.org.uk
SUMMARY:Monthly Meeting now on Zoom
DESCRIPTION:Monthly Meeting now on Zoom\nDue to many people being unable to make this date have decided to put meetng online.  Zoom link http://tiny.cc/rz0qxz \nor use QR Code below \n \nMeeting ID: 717 9470 8036 \nPasscode: 8d0hPb \nMonthly meeting to discuss and develop ideas for pomoting cycling in Southwark.  A good opportunity to catch up on what is going on regarding active travel in Southwark and surrounding areas.
URL:https://southwarkcyclists.org.uk/events/monthly-meeting-43/
LOCATION:The Tree House\, Sayer St\, Elephant Park\, London\, SE17 1GD
CATEGORIES:Monthly Meeting
ORGANIZER;CN="Bruce Lynn":MAILTO:b.lynn@ucl.ac.uk
END:VEVENT
END:VCALENDAR