BEGIN:VCALENDAR
VERSION:2.0
PRODID:-//Southwark Cyclists - ECPv6.15.11//NONSGML v1.0//EN
CALSCALE:GREGORIAN
METHOD:PUBLISH
X-ORIGINAL-URL:https://southwarkcyclists.org.uk
X-WR-CALDESC:Events for Southwark Cyclists
REFRESH-INTERVAL;VALUE=DURATION:PT1H
X-Robots-Tag:noindex
X-PUBLISHED-TTL:PT1H
BEGIN:VTIMEZONE
TZID:Europe/London
BEGIN:DAYLIGHT
TZOFFSETFROM:+0000
TZOFFSETTO:+0100
TZNAME:BST
DTSTART:20240331T010000
END:DAYLIGHT
BEGIN:STANDARD
TZOFFSETFROM:+0100
TZOFFSETTO:+0000
TZNAME:GMT
DTSTART:20241027T010000
END:STANDARD
BEGIN:DAYLIGHT
TZOFFSETFROM:+0000
TZOFFSETTO:+0100
TZNAME:BST
DTSTART:20250330T010000
END:DAYLIGHT
BEGIN:STANDARD
TZOFFSETFROM:+0100
TZOFFSETTO:+0000
TZNAME:GMT
DTSTART:20251026T010000
END:STANDARD
BEGIN:DAYLIGHT
TZOFFSETFROM:+0000
TZOFFSETTO:+0100
TZNAME:BST
DTSTART:20260329T010000
END:DAYLIGHT
BEGIN:STANDARD
TZOFFSETFROM:+0100
TZOFFSETTO:+0000
TZNAME:GMT
DTSTART:20261025T010000
END:STANDARD
END:VTIMEZONE
BEGIN:VEVENT
DTSTART;TZID=Europe/London:20250906T100000
DTEND;TZID=Europe/London:20250906T123000
DTSTAMP:20260421T145329
CREATED:20250901T173710Z
LAST-MODIFIED:20250901T173856Z
UID:27333-1757152800-1757161800@southwarkcyclists.org.uk
SUMMARY:Burgess Park to Dulwich Park Loop - Healthy Ride
DESCRIPTION:Burgess Park to Dulwich Park Loop\nNOTE. Please register for rides on Eventbrite so we can limit numbers\, link: https://www.eventbrite.co.uk/e/burgess-park-to-dulwich-park-circular-bike-ride-tickets-1652233287239?aff=oddtdtcreator.\nStart/finish Burgess Park\, Stomping Grounds Café\, Eduardo leading. Start up Rye Lane to Peckham Rye Park\, then up Friern Rd and down to Dulwich Park. Cross the park possibly having a break at the Café where we often start rides. From Dulwich Park a short hop to the Herne Hill Velodrome. Just a flying visit to briefly watch the action at this amazing place. Another short ride to Brockwell Park. If time go past recently renovated Brockwell Hall. From Brockwell take the last leg back to Burgess Park\, with the option of including Ruskin Park. Easy ride\, some short hills\, lots of traffic free paths in parks and low traffic streets. Good ride for relatively inexperienced cyclists who would like to gain experience and learn new routes. Everyone welcome. Route map at https://www.google.com/maps/d/edit?mid=1pElCotX1P3H-NopWcpNX3by3wPc6YvY&usp=sharing\nRiders of all ages are welcome on Healthy Rides but under 18s must be accompanied by a responsible adult. Same for “adults at risk”. Always give way to pedestrians and to other cyclists so all path users feel safe. If you cannot make a ride\, please cancel so that someone else can take the place.
URL:https://southwarkcyclists.org.uk/events/burgess-park-to-dulwich-park-loop-healthy-ride/
LOCATION:Burgess Park Cafe\, Chumleigh Gardens\, London\, SE5 0RJ\, United Kingdom
CATEGORIES:Healthy Rides
ORGANIZER;CN="Eduardo Graxioli":MAILTO:eduardograzioli@gmail.com
END:VEVENT
BEGIN:VEVENT
DTSTART;TZID=Europe/London:20250920T093000
DTEND;TZID=Europe/London:20250920T140000
DTSTAMP:20260421T145329
CREATED:20250919T174016Z
LAST-MODIFIED:20250919T174016Z
UID:27447-1758360600-1758376800@southwarkcyclists.org.uk
SUMMARY:The Great River Race by Bike!
DESCRIPTION:The Great River Race by Bike!\nNOTE. Please register for rides on Eventbrite so we can limit numbers\, link: https://www.eventbrite.co.uk/e/the-great-river-race-by-bike-tickets-1706854871869?aff=oddtdtcreator\nThe aim is to follow the Great River Race from start to finish. Around 300 human-powered craft take part in this race every year\, craft of all shapes and sizes heading up with the tide from Millwall Slip to Ham\, a bit from Richmond. We will start from Canada Water (next to Canada Water Library\, opposite Canada Water Station) at 10am with Cap’n Jamie in charge. Ride first to a good point near South Dock to watch the first boats start. Then ride upstream stopping at several points. We hope to reach Richmond\, near the finish\, by 2pm. Please note this is a very approximate finish time. Do not come on this ride if you need to be finished promptly. We will guide riders to Richmond Station to get transport back.\nIt may well be a bit chaotic but will be fun. Route is 21 miles\, so be prepared. Check and lube your bike\, bring water\, snacks\, suitable clothing\, spare inner tube etc. At present the forecast is dry. So “Hoo-ray and up she rises” off we go!\nThese rides are part of a regular programme of Saturday rides organised by Southwark Cyclists\, more information at https://southwarkcyclists.org.uk/healthy-rides/. Riders of all ages are welcome on Healthy Rides but under 18s must be accompanied by a responsible adult. Same for “adults at risk”. Always give way to pedestrians and to other cyclists so all path users feel safe. If you cannot make a ride\, please cancel so that someone else can take the place.
URL:https://southwarkcyclists.org.uk/events/the-great-river-race-by-bike/
LOCATION:Canada Water\, 21 Surrey Quays Road\, London\, Southwark\, SE16 7AR\, United Kingdom
CATEGORIES:Healthy Rides
END:VEVENT
END:VCALENDAR