BEGIN:VCALENDAR
VERSION:2.0
PRODID:-//Southwark Cyclists - ECPv6.15.11//NONSGML v1.0//EN
CALSCALE:GREGORIAN
METHOD:PUBLISH
X-WR-CALNAME:Southwark Cyclists
X-ORIGINAL-URL:https://southwarkcyclists.org.uk
X-WR-CALDESC:Events for Southwark Cyclists
REFRESH-INTERVAL;VALUE=DURATION:PT1H
X-Robots-Tag:noindex
X-PUBLISHED-TTL:PT1H
BEGIN:VTIMEZONE
TZID:Europe/London
BEGIN:DAYLIGHT
TZOFFSETFROM:+0000
TZOFFSETTO:+0100
TZNAME:BST
DTSTART:20240331T010000
END:DAYLIGHT
BEGIN:STANDARD
TZOFFSETFROM:+0100
TZOFFSETTO:+0000
TZNAME:GMT
DTSTART:20241027T010000
END:STANDARD
BEGIN:DAYLIGHT
TZOFFSETFROM:+0000
TZOFFSETTO:+0100
TZNAME:BST
DTSTART:20250330T010000
END:DAYLIGHT
BEGIN:STANDARD
TZOFFSETFROM:+0100
TZOFFSETTO:+0000
TZNAME:GMT
DTSTART:20251026T010000
END:STANDARD
BEGIN:DAYLIGHT
TZOFFSETFROM:+0000
TZOFFSETTO:+0100
TZNAME:BST
DTSTART:20260329T010000
END:DAYLIGHT
BEGIN:STANDARD
TZOFFSETFROM:+0100
TZOFFSETTO:+0000
TZNAME:GMT
DTSTART:20261025T010000
END:STANDARD
END:VTIMEZONE
BEGIN:VEVENT
DTSTART;TZID=Europe/London:20250726T100000
DTEND;TZID=Europe/London:20250726T173000
DTSTAMP:20260421T172731
CREATED:20250615T080821Z
LAST-MODIFIED:20250615T081024Z
UID:26672-1753524000-1753551000@southwarkcyclists.org.uk
SUMMARY:Awayday ride from Whitstable to Ramsgate
DESCRIPTION:Awayday ride from Whitstable to Ramsgate\nNOTE. You must register on Eventbrite so that we can limit numbers\, link < https://www.eventbrite.co.uk/e/awayday-cycle-ride-from-whitstable-to-ramsgate-tickets-1413286400669?aff=oddtdtcreator  > \nThis ride is for July 26th. Jamie has requested that we open registration  early so that it is possible to get the best deals on rail tickets. \nMission\nTo cycle the iconic Viking Coast in stages via Swale Cliffe\, Herne Bay\, Reculver Towers\, Minnis Bay\, Birchington\, Westgate on Sea and Broadstairs to reach Ramsgate covering a total distance of about 30 miles in all. This ride is suitable for fit and experienced riders. \nCoordinating Instructions and Timings\nThe Ride will depart from Whitstable Station at 10.00am on Saturday 26th July and is expected to finish at Ramsgate Station by 5.30pm.\nPlease note that finish timings cannot be guaranteed in the event of unforeseen issues on the day. This is not a suitable ride for riders with tight agendas that evening.\n\nTransport\nRiders are responsible for arranging their own transport to and from the ride. If travelling by train (which we hope most will do) you are advised to book both outward rail ticket to Whitstable and return from Ramsgate in advance.  Trains are starting to look busy for that day as it is a popular time to visit the Kent coast. \nRations and Water\nThere will be a coffee stop along the way and a hour break around 12.30 for fish & chips etc. Riders are welcome to bring their own picnics.  Time permitting we may stop for a swim and a cup of tea in Viking Bay at Broadstairs.\n\nABC bike checks \nRiders are urged to carry-out a basic ABC pre-check before the event. A = Air in tyres\, B = Brakes\, C= Chain & gears etc with no-play in steering.\n\nEquipment\nRiders are advised to bring: Water bottle\, fleece\, waterproof jacket & trousers\, (swim kit) and bike lock.\n\nCommunications\nFeel free to contact jamie.pedrick@outlook.com with any queries regarding this event. I will also be contactable on the day by phone: 07976 803741. \nGeneral \nRiders of all ages are welcome on Healthy Rides but under 18s must be accompanied by a responsible adult. Same for “adults at risk”. Always give way to pedestrians and to other cyclists so all path users feel safe.  If you cannot make a ride\, please cancel so that someone else can take the place.  How to cancel: https://www.eventbrite.co.uk/help/en-gb/articles/557726/how-to-cancel-or-delete-a-free-order/ \nThis ride is part of a regular programme of Saturday rides organised by Southwark Cyclists\, more information at https://southwarkcyclists.org.uk/healthy-rides/. Southwark Cyclists are part of the London Cycling Campaign.
URL:https://southwarkcyclists.org.uk/events/awayday-ride-from-whitstable-to-ramsgate/
LOCATION:Whitstable Station\, 26 Railway Avenue\, Whitstable\, CT5 1LH\, United Kingdom
CATEGORIES:Healthy Rides
END:VEVENT
END:VCALENDAR