BEGIN:VCALENDAR
VERSION:2.0
PRODID:-//Southwark Cyclists - ECPv6.15.11//NONSGML v1.0//EN
CALSCALE:GREGORIAN
METHOD:PUBLISH
X-ORIGINAL-URL:https://southwarkcyclists.org.uk
X-WR-CALDESC:Events for Southwark Cyclists
REFRESH-INTERVAL;VALUE=DURATION:PT1H
X-Robots-Tag:noindex
X-PUBLISHED-TTL:PT1H
BEGIN:VTIMEZONE
TZID:Europe/London
BEGIN:DAYLIGHT
TZOFFSETFROM:+0000
TZOFFSETTO:+0100
TZNAME:BST
DTSTART:20240331T010000
END:DAYLIGHT
BEGIN:STANDARD
TZOFFSETFROM:+0100
TZOFFSETTO:+0000
TZNAME:GMT
DTSTART:20241027T010000
END:STANDARD
BEGIN:DAYLIGHT
TZOFFSETFROM:+0000
TZOFFSETTO:+0100
TZNAME:BST
DTSTART:20250330T010000
END:DAYLIGHT
BEGIN:STANDARD
TZOFFSETFROM:+0100
TZOFFSETTO:+0000
TZNAME:GMT
DTSTART:20251026T010000
END:STANDARD
BEGIN:DAYLIGHT
TZOFFSETFROM:+0000
TZOFFSETTO:+0100
TZNAME:BST
DTSTART:20260329T010000
END:DAYLIGHT
BEGIN:STANDARD
TZOFFSETFROM:+0100
TZOFFSETTO:+0000
TZNAME:GMT
DTSTART:20261025T010000
END:STANDARD
END:VTIMEZONE
BEGIN:VEVENT
DTSTART;TZID=Europe/London:20250621T093000
DTEND;TZID=Europe/London:20250621T150000
DTSTAMP:20260421T184508
CREATED:20250611T084618Z
LAST-MODIFIED:20250611T084618Z
UID:26647-1750498200-1750518000@southwarkcyclists.org.uk
SUMMARY:Richmond Park from Waterloo Healthy Ride
DESCRIPTION:Richmond Park from Waterloo\nPlease register for rides on Eventbrite so we can limit numbers\, link: https://www.eventbrite.co.uk/e/richmond-park-from-waterloo-cycle-ride-tickets-1407623843809?aff=oddtdtcreator\n \nRide details from Ride leader Jamie in his inimitable style. Note early 9.30 start time. \nMission To cycle from Waterloo Station to Richmond Park\, Richmond Bridge\, Marble Hill\, Eel Pie Island and Twickenham Station from where we will catch a train back to Waterloo Station. \nCoordinating Instructions and Timings.  Riders will meet at 9.30am on Saturday 29th June 2024 outside and under the Waterloo Station Victory Arch that is 50 yards up on the right from where York Road meets Mepham Street and Cab Road. A short safety brief will be given at the meeting RV point before departing. We envisage being back at Waterloo by approximately 3pm trains permitting. \nRoute This is a relaxed and social ride that involves some very enjoyable cycling in stages for about 20 miles. Much of our route is on quiet\, vehicle-free roads with some use of riverside paths. \nChecks and Equipment Riders are advised to pre-check their bikes before the ride. ABC bike safety checks. Air/Brakes/Chain/Drive. Also check for play in wheels. Riders are further advised to bring: – a warm fleece\, waterproofs\, puncture canister\, bike lock\, bike pump and water bottle. \nRations and Water There will be a coffee stop and we will lunch at Pembroke Lodge Café in Richmond Park. Riders are also welcome to bring their own picnic lunch/snack should they wish. \nContact Please feel free to contact me with any queries regarding this event on 07976 803741 or at jamie.pedrick@outlook.com \nNote from Rides Coordinator: this is a long ride and will include some towpath. Riders need to be experienced enough to cope\,   \nRiders of all ages are welcome on Healthy Rides but under 18s must be accompanied by a responsible adult. Same for “adults at risk”. Always give way to pedestrians and to other cyclists so all path users feel safe.  If you cannot make a ride\, please cancel so that someone else can take the place.  How to cancel: https://www.eventbrite.co.uk/help/en-gb/articles/557726/how-to-cancel-or-delete-a-free-order/
URL:https://southwarkcyclists.org.uk/events/richmond-park-from-waterloo-healthy-ride/
LOCATION:Waterloo Station\, Waterloo Station\, London\, SE1 7ND\, United Kingdom
CATEGORIES:Healthy Rides
ATTACH;FMTTYPE=image/jpeg:https://southwarkcyclists.org.uk/wp-content/uploads/2025/06/Group_view.jpg
END:VEVENT
BEGIN:VEVENT
DTSTART;TZID=Europe/London:20250621T100000
DTEND;TZID=Europe/London:20250621T123000
DTSTAMP:20260421T184508
CREATED:20250611T085613Z
LAST-MODIFIED:20250611T093035Z
UID:26651-1750500000-1750509000@southwarkcyclists.org.uk
SUMMARY:Baklava\, Bagels\, Barfi\, Brot\, Baguette and Le Magnifique! A cycle ride round London’s international bakeries
DESCRIPTION:Baklava\, Bagels\, Barfi\, Brot\, Baguette and Le Magnifique! A cycle ride round London’s international bakeries  \nPlease register for rides on Eventbrite so we can limit numbers\, link:  https://www.eventbrite.co.uk/e/bike-ride-baklava-bagels-barfi-brot-baguette-and-le-magnifique-tickets-1407328981869?aff=oddtdtcreator \nRide Leader Eva is bored with the typical English offering of brownies\, shortbread and flapjack\, and wants to share the many alternative offerings of some international bakeries in London. We will have 2 coffee stops\, and will stop at the other bakeries to allow riders to buy goods to take home. Whilst the ride is only about 10 miles long and mainly flat\, due to the potential for many stops it might take ca 2.5 hours. Starts at London Bridge (Southwark Gateway Needle\, South side\, near London Bridge Station) at 10 am. Finish there (hopefully) by 12.30.  Route at Baklava\, Bagels\, Barfi\, Brot\, Baguette and Le Magnifique! | ride | Komoot \nIn order to be able to manage the stops and resulting delays\, the number of riders will have to be limited. Please do not attend without an Eventbrite booking. \nRiders of all ages are welcome on Healthy Rides but under 18s must be accompanied by a responsible adult. Same for “adults at risk”. Always give way to pedestrians and to other cyclists so all path users feel safe.  If you cannot make a ride\, please cancel so that someone else can take the place.  How to cancel: https://www.eventbrite.co.uk/help/en-gb/articles/557726/how-to-cancel-or-delete-a-free-order/ \nThese rides are part of a regular programme of Saturday rides\, more information at https://southwarkcyclists.org.uk/healthy-rides/.
URL:https://southwarkcyclists.org.uk/events/baklava-bagels-barfi-brot-baguette-and-le-magnifique-a-cycle-ride-round-londons-international-bakeries/
LOCATION:Southwark Needle\, London Bridge Walk\, London\, United Kingdom
CATEGORIES:Healthy Rides
ATTACH;FMTTYPE=image/png:https://southwarkcyclists.org.uk/wp-content/uploads/2025/06/Bakeries.png
ORGANIZER;CN="Eva Bigalke":MAILTO:eva_bigalke@yahoo.com
END:VEVENT
END:VCALENDAR