BEGIN:VCALENDAR
VERSION:2.0
PRODID:-//Southwark Cyclists - ECPv6.15.11//NONSGML v1.0//EN
CALSCALE:GREGORIAN
METHOD:PUBLISH
X-ORIGINAL-URL:https://southwarkcyclists.org.uk
X-WR-CALDESC:Events for Southwark Cyclists
REFRESH-INTERVAL;VALUE=DURATION:PT1H
X-Robots-Tag:noindex
X-PUBLISHED-TTL:PT1H
BEGIN:VTIMEZONE
TZID:Europe/London
BEGIN:DAYLIGHT
TZOFFSETFROM:+0000
TZOFFSETTO:+0100
TZNAME:BST
DTSTART:20250330T010000
END:DAYLIGHT
BEGIN:STANDARD
TZOFFSETFROM:+0100
TZOFFSETTO:+0000
TZNAME:GMT
DTSTART:20251026T010000
END:STANDARD
BEGIN:DAYLIGHT
TZOFFSETFROM:+0000
TZOFFSETTO:+0100
TZNAME:BST
DTSTART:20260329T010000
END:DAYLIGHT
BEGIN:STANDARD
TZOFFSETFROM:+0100
TZOFFSETTO:+0000
TZNAME:GMT
DTSTART:20261025T010000
END:STANDARD
BEGIN:DAYLIGHT
TZOFFSETFROM:+0000
TZOFFSETTO:+0100
TZNAME:BST
DTSTART:20270328T010000
END:DAYLIGHT
BEGIN:STANDARD
TZOFFSETFROM:+0100
TZOFFSETTO:+0000
TZNAME:GMT
DTSTART:20271031T010000
END:STANDARD
END:VTIMEZONE
BEGIN:VEVENT
DTSTART;TZID=Europe/London:20260418T100000
DTEND;TZID=Europe/London:20260418T133000
DTSTAMP:20260422T091058
CREATED:20260412T172446Z
LAST-MODIFIED:20260412T172446Z
UID:28718-1776506400-1776519000@southwarkcyclists.org.uk
SUMMARY:South London Murals - Healthy Ride
DESCRIPTION:South London Murals\nNOTE. You must register on Eventbrite so we can limit numbers\, link:  https://www.eventbrite.co.uk/e/south-london-murals-cycle-ride-tickets-1987254948045?aff=oddtdtcreator \nMurals add much to the urban environment. On this ride we will look at 13 different murals in Southwark\, Lambeth\, Stockwell\, Brixton\, Loughborough and Lewisham. Start at 10 am in Deal Porter Square at Canada Water and ride ca 26 km route. With a coffee stop midway we expect to be back about 1.30 pm.  It’s a flat city ride\, but with some very busy sections in it\, though mainly with marked cycle routes. Eva is leading this ride. You can see the planned route  here https://www.komoot.com/tour/2654494984. \nRiders of all ages are welcome on Healthy Rides but under 18s must be accompanied by a responsible adult.  Same for “adults at risk”. Always give way to pedestrians and to other cyclists so all path users feel safe. If you cannot make a ride\, please cancel so that someone else can take the place.  Remember things can\, and do\, happen on bike rides and we sometimes get delayed. It is therefore advised not to schedule anything to immediately follow the expected end time. This ride is part of a regular programme of Saturday rides\, more information at https://southwarkcyclists.org.uk/healthy-rides/.
URL:https://southwarkcyclists.org.uk/events/south-london-murals-healthy-ride/
LOCATION:Canada Water\, 21 Surrey Quays Road\, London\, Southwark\, SE16 7AR\, United Kingdom
CATEGORIES:Healthy Rides
ORGANIZER;CN="Eva Bigalke":MAILTO:eva_bigalke@yahoo.com
END:VEVENT
BEGIN:VEVENT
DTSTART;TZID=Europe/London:20260425T090000
DTEND;TZID=Europe/London:20260425T143000
DTSTAMP:20260422T091058
CREATED:20260416T205249Z
LAST-MODIFIED:20260416T205553Z
UID:28727-1777107600-1777127400@southwarkcyclists.org.uk
SUMMARY:THE SC LONDON MARATHON RIDE 2026
DESCRIPTION:LONDON MARATHON RIDE 2026 \nNote. You must register on Eventbrite (link below) so that we can limit numbers\, link: https://www.eventbrite.co.uk/e/the-2026-southwark-cyclists-london-marathon-ride-tickets-1987338179994?aff=oddtdtcreator \nMission\nTo cycle the iconic 26.6-mile London Marathon Route from start to finish.  This LCC event IS NOT A RACE but takes place at a constant pace\, some of which is on busier roads. This ride is suitable for competent\, fit and experienced riders. \nCoordinating Instructions and Timings\nRiders will meet at 09.00am sharp on Saturday 25th April at the Statue of General James Wolfe next to the Prime Meridian Line Museum in Greenwich Park\, SE10 8XJ.\nA short safety briefing will be given at 09.00am.\nThe ride will finish near the Admiralty Arch by approx. 2.30pm Charing Cross Station is nearby for Riders to get home. \nRoute\nWe are fortunate to have Simon Kenward with us again for this ride. Simon is a veteran of many London Marathons and is still involved with the executive organizing group. Simon will be pointing out a few locations enroute where the resilience and stamina of some marathon runners can hit a wall. \nMost will be familiar with the London Marathon Route. Greenwich Park\, Woolwich\, Tower Bridge\, Isle of Dogs\, Victoria Embankment\, The Mall/Admiralty Arch. 26 miles is a long way – even on a bike. Come suitably prepared.\nRations and Water\nBring snacks and water.  We will stop for a 20-minute coffee break/snack at Dock Head near Tower Bridge.\nABC checks and Equipment\nRiders are urged to pre-check their bikes e.g. A = Air in tyres\, B = Brakes\, C= Chain & gears\, and to ensure there is no play in their steering. Riders are further advised to bring: a warm fleece\, waterproofs. \nGeneral Information about the Healthy Rides.  Riders of all ages are welcome on Healthy Rides but under 18s must be accompanied by a responsible adult.  Same for “adults at risk”. Always give way to pedestrians and to other cyclists so all path users feel safe. If you cannot make a ride\, please cancel so that someone else can take the place.  Remember things can\, and do\, happen on bike rides and we sometimes get delayed. It is therefore advised not to schedule anything to immediately follow the expected end time. This ride is part of a regular programme of Saturday rides\, more information at https://southwarkcyclists.org.uk/healthy-rides/. \n 
URL:https://southwarkcyclists.org.uk/events/the-sc-london-marathon-ride-2026/
LOCATION:General Wolfe Statue\, Greenwich Park\, Next to Prime Meridien\, London\, SE10 8XJ\, United Kingdom
CATEGORIES:Healthy Rides
END:VEVENT
BEGIN:VEVENT
DTSTART;TZID=Europe/London:20260425T100000
DTEND;TZID=Europe/London:20260425T123000
DTSTAMP:20260422T091058
CREATED:20260420T210955Z
LAST-MODIFIED:20260420T210955Z
UID:28736-1777111200-1777120200@southwarkcyclists.org.uk
SUMMARY:The Great Fire of London Healthy Ride
DESCRIPTION:The Great Fire of London Ride  \nNote. You must register on Eventbrite\, link https://www.eventbrite.co.uk/e/the-great-fire-of-london-ride-tickets-1987769935386?aff=oddtdtcreator \nA short and leisurely eight-mile ride around the perimeter of the area destroyed in the Great Fire\, based on Hollar’s map of 1666. Starting 10am at London Bridge (Southwark Gateway Needle\, south side\, near London Bridge Station)\, we pass the Monument and go down Pudding Lane to join the cycleway to the Tower\, which just escaped the blaze. We’ll pay a brief visit to St.Olave’s church\, where Pepys worshipped\, and is buried. We then follow the edge of the affected area\, with occasional stops at some churches that just survived\, including the imposing St. Katharine Cree. This will take us up through Austen Friars to London Wall and the ruins of St. Elsyng Spital\, and then Aldersgate Rotunda\, where we stop for coffee. We then make our way via New Fetter Lane to Fleet Street\, and take a diversion to cycle around the safe space of Lincoln’s Inn Fields\, to which the unfortunate inhabitants of the affected area were advised to carry all their worldly goods\, before making our way through the Temple\, which just escaped the flames\, and so back to the cycleway that brings us to London Bridge. \nJohn S leading\, Start: London Bridge 10am\, Finish: London Bridge 12.30pm \nGeneral Information about the Healthy Rides.  Riders of all ages are welcome on Healthy Rides but under 18s must be accompanied by a responsible adult.  Same for “adults at risk”. Always give way to pedestrians and to other cyclists so all path users feel safe. If you cannot make a ride\, please cancel so that someone else can take the place.  Remember things can\, and do\, happen on bike rides and we sometimes get delayed. It is therefore advised not to schedule anything to immediately follow the expected end time. This ride is part of a regular programme of Saturday rides\, more information at https://southwarkcyclists.org.uk/healthy-rides/
URL:https://southwarkcyclists.org.uk/events/the-great-fire-of-london-healthy-ride/
LOCATION:Southwark Needle\, London Bridge Walk\, London\, United Kingdom
CATEGORIES:Healthy Rides
ORGANIZER;CN="John Sutton":MAILTO:j.sutton@lse.ac.uk
END:VEVENT
END:VCALENDAR