BEGIN:VCALENDAR
VERSION:2.0
PRODID:-//Southwark Cyclists - ECPv6.15.11//NONSGML v1.0//EN
CALSCALE:GREGORIAN
METHOD:PUBLISH
X-WR-CALNAME:Southwark Cyclists
X-ORIGINAL-URL:https://southwarkcyclists.org.uk
X-WR-CALDESC:Events for Southwark Cyclists
REFRESH-INTERVAL;VALUE=DURATION:PT1H
X-Robots-Tag:noindex
X-PUBLISHED-TTL:PT1H
BEGIN:VTIMEZONE
TZID:Europe/London
BEGIN:DAYLIGHT
TZOFFSETFROM:+0000
TZOFFSETTO:+0100
TZNAME:BST
DTSTART:20250330T010000
END:DAYLIGHT
BEGIN:STANDARD
TZOFFSETFROM:+0100
TZOFFSETTO:+0000
TZNAME:GMT
DTSTART:20251026T010000
END:STANDARD
BEGIN:DAYLIGHT
TZOFFSETFROM:+0000
TZOFFSETTO:+0100
TZNAME:BST
DTSTART:20260329T010000
END:DAYLIGHT
BEGIN:STANDARD
TZOFFSETFROM:+0100
TZOFFSETTO:+0000
TZNAME:GMT
DTSTART:20261025T010000
END:STANDARD
BEGIN:DAYLIGHT
TZOFFSETFROM:+0000
TZOFFSETTO:+0100
TZNAME:BST
DTSTART:20270328T010000
END:DAYLIGHT
BEGIN:STANDARD
TZOFFSETFROM:+0100
TZOFFSETTO:+0000
TZNAME:GMT
DTSTART:20271031T010000
END:STANDARD
END:VTIMEZONE
BEGIN:VEVENT
DTSTART;TZID=Europe/London:20260406T090000
DTEND;TZID=Europe/London:20260406T153000
DTSTAMP:20260419T175644
CREATED:20260330T122459Z
LAST-MODIFIED:20260330T122459Z
UID:28572-1775466000-1775489400@southwarkcyclists.org.uk
SUMMARY:Healthy Ride - Who was Passmore Edwards?
DESCRIPTION:Who was Passmore Edwards?\nNOTE. You must register on Eventbrite so we can limit numbers\, link below.  \nAs in recent years\, the Healthy Rides are having a special all day ride for the bank holiday. \nEaster Monday Ride. April 6th 2026. Who was Passmore Edwards? < https://www.eventbrite.co.uk/e/who-was-passmore-edwards-tickets-1986202397839?aff=oddtdtcreator > \nJohn Passmore Edwards (1823-1911) was a journalist\, publisher\, MP\nand philanthropist who left a lasting legacy in London. Principally his libraries\, several of which still exist\, but also hospitals and drinking fountains. Werner has researched a route that will visit as many sites as possible in an all-day\, 2-part ride on Easter Monday\, April 6th. \nMeet at London Bridge (Southwark Gateway Needle\, south side) at 9am (note early time). Morning will cover north of the river cycling a 40km loop including Bow Library\, East Ham Hospital and  Canning Town Boys Club.  After a lunch break at about 1.30 continue with a 20km south of the river circuit down to Dulwich (Passmore Edwards Library)\, South London Art Gallery and Wells Way Public Baths. Estimated finish at London Bridge at 3.30pm. \nRiders of all ages are welcome on Healthy Rides but under 18s must be accompanied by a responsible adult.  Same for “adults at risk”. Always give way to pedestrians and to other cyclists so all path users feel safe. If you cannot make a ride\, please cancel so that someone else can take the place.  Remember things can\, and do\, happen on bike rides and we sometimes get delayed. It is therefore advised not to schedule anything to immediately follow the expected end time. This ride is part of a regular programme of Saturday rides\, more information at https://southwarkcyclists.org.uk/healthy-rides/.
URL:https://southwarkcyclists.org.uk/events/healthy-ride-who-was-passmore-edwards/
LOCATION:Southwark Needle\, London Bridge Walk\, London\, United Kingdom
CATEGORIES:Healthy Rides
ORGANIZER;CN="Werner Wiethege":MAILTO:sc_fixie@3112.org
END:VEVENT
END:VCALENDAR