BEGIN:VCALENDAR
VERSION:2.0
PRODID:-//Southwark Cyclists - ECPv6.15.11//NONSGML v1.0//EN
CALSCALE:GREGORIAN
METHOD:PUBLISH
X-WR-CALNAME:Southwark Cyclists
X-ORIGINAL-URL:https://southwarkcyclists.org.uk
X-WR-CALDESC:Events for Southwark Cyclists
REFRESH-INTERVAL;VALUE=DURATION:PT1H
X-Robots-Tag:noindex
X-PUBLISHED-TTL:PT1H
BEGIN:VTIMEZONE
TZID:Europe/London
BEGIN:DAYLIGHT
TZOFFSETFROM:+0000
TZOFFSETTO:+0100
TZNAME:BST
DTSTART:20190331T010000
END:DAYLIGHT
BEGIN:STANDARD
TZOFFSETFROM:+0100
TZOFFSETTO:+0000
TZNAME:GMT
DTSTART:20191027T010000
END:STANDARD
BEGIN:DAYLIGHT
TZOFFSETFROM:+0000
TZOFFSETTO:+0100
TZNAME:BST
DTSTART:20200329T010000
END:DAYLIGHT
BEGIN:STANDARD
TZOFFSETFROM:+0100
TZOFFSETTO:+0000
TZNAME:GMT
DTSTART:20201025T010000
END:STANDARD
BEGIN:DAYLIGHT
TZOFFSETFROM:+0000
TZOFFSETTO:+0100
TZNAME:BST
DTSTART:20210328T010000
END:DAYLIGHT
BEGIN:STANDARD
TZOFFSETFROM:+0100
TZOFFSETTO:+0000
TZNAME:GMT
DTSTART:20211031T010000
END:STANDARD
END:VTIMEZONE
BEGIN:VEVENT
DTSTART;TZID=Europe/London:20200114T180000
DTEND;TZID=Europe/London:20200114T220000
DTSTAMP:20260425T141118
CREATED:20200103T181716Z
LAST-MODIFIED:20200103T181716Z
UID:13576-1579024800-1579039200@southwarkcyclists.org.uk
SUMMARY:LCC Winter Social
DESCRIPTION:Start your new year right by finding out more about how you can play a part in making London a better city for active travel and how you can work with your local LCC group to achieve this! \nJoin us for a drink and get to know fellow activists. Build the contacts you will need to make London better\, safer and more welcoming for active travel. But most importantly have fun. \nAll welcome\, members and non members alike!
URL:https://southwarkcyclists.org.uk/events/lcc-winter-social/
LOCATION:Look Mum No Hands\, 49 Old St\, London\, EC1V 9HX\, United Kingdom
CATEGORIES:Group Social
END:VEVENT
END:VCALENDAR