BEGIN:VCALENDAR
VERSION:2.0
PRODID:-//Southwark Cyclists - ECPv6.15.11//NONSGML v1.0//EN
CALSCALE:GREGORIAN
METHOD:PUBLISH
X-WR-CALNAME:Southwark Cyclists
X-ORIGINAL-URL:https://southwarkcyclists.org.uk
X-WR-CALDESC:Events for Southwark Cyclists
REFRESH-INTERVAL;VALUE=DURATION:PT1H
X-Robots-Tag:noindex
X-PUBLISHED-TTL:PT1H
BEGIN:VTIMEZONE
TZID:Europe/London
BEGIN:DAYLIGHT
TZOFFSETFROM:+0000
TZOFFSETTO:+0100
TZNAME:BST
DTSTART:20230326T010000
END:DAYLIGHT
BEGIN:STANDARD
TZOFFSETFROM:+0100
TZOFFSETTO:+0000
TZNAME:GMT
DTSTART:20231029T010000
END:STANDARD
BEGIN:DAYLIGHT
TZOFFSETFROM:+0000
TZOFFSETTO:+0100
TZNAME:BST
DTSTART:20240331T010000
END:DAYLIGHT
BEGIN:STANDARD
TZOFFSETFROM:+0100
TZOFFSETTO:+0000
TZNAME:GMT
DTSTART:20241027T010000
END:STANDARD
BEGIN:DAYLIGHT
TZOFFSETFROM:+0000
TZOFFSETTO:+0100
TZNAME:BST
DTSTART:20250330T010000
END:DAYLIGHT
BEGIN:STANDARD
TZOFFSETFROM:+0100
TZOFFSETTO:+0000
TZNAME:GMT
DTSTART:20251026T010000
END:STANDARD
END:VTIMEZONE
BEGIN:VEVENT
DTSTART;TZID=Europe/London:20240721T070000
DTEND;TZID=Europe/London:20240721T130000
DTSTAMP:20260422T071206
CREATED:20240427T204830Z
LAST-MODIFIED:20240427T205133Z
UID:23505-1721545200-1721566800@southwarkcyclists.org.uk
SUMMARY:Dunwich Dynamo Return Transport
DESCRIPTION:Dunwich Dynamo Return Transport\nReturn transport by coach and truck from Dunwich beach  Buy tickets at https://southwarkcyclists.org.uk/product/dunwich-dynamo-2024/
URL:https://southwarkcyclists.org.uk/events/dunwich-dynamo-return-transport/
LOCATION:Dunwich beach\, Dunwich Beach\, Dunwich\, IP17 3DR\, United Kingdom
CATEGORIES:Dunwich Dynamo
ORGANIZER;CN="Hugh Bolton":MAILTO:hughbolton@outlook.com
END:VEVENT
END:VCALENDAR