BEGIN:VCALENDAR
VERSION:2.0
PRODID:-//Southwark Cyclists - ECPv6.15.11//NONSGML v1.0//EN
CALSCALE:GREGORIAN
METHOD:PUBLISH
X-WR-CALNAME:Southwark Cyclists
X-ORIGINAL-URL:https://southwarkcyclists.org.uk
X-WR-CALDESC:Events for Southwark Cyclists
REFRESH-INTERVAL;VALUE=DURATION:PT1H
X-Robots-Tag:noindex
X-PUBLISHED-TTL:PT1H
BEGIN:VTIMEZONE
TZID:Europe/London
BEGIN:DAYLIGHT
TZOFFSETFROM:+0000
TZOFFSETTO:+0100
TZNAME:BST
DTSTART:20180325T010000
END:DAYLIGHT
BEGIN:STANDARD
TZOFFSETFROM:+0100
TZOFFSETTO:+0000
TZNAME:GMT
DTSTART:20181028T010000
END:STANDARD
BEGIN:DAYLIGHT
TZOFFSETFROM:+0000
TZOFFSETTO:+0100
TZNAME:BST
DTSTART:20190331T010000
END:DAYLIGHT
BEGIN:STANDARD
TZOFFSETFROM:+0100
TZOFFSETTO:+0000
TZNAME:GMT
DTSTART:20191027T010000
END:STANDARD
BEGIN:DAYLIGHT
TZOFFSETFROM:+0000
TZOFFSETTO:+0100
TZNAME:BST
DTSTART:20200329T010000
END:DAYLIGHT
BEGIN:STANDARD
TZOFFSETFROM:+0100
TZOFFSETTO:+0000
TZNAME:GMT
DTSTART:20201025T010000
END:STANDARD
END:VTIMEZONE
BEGIN:VEVENT
DTSTART;TZID=Europe/London:20190524T093000
DTEND;TZID=Europe/London:20190524T140000
DTSTAMP:20260421T101632
CREATED:20190520T144735Z
LAST-MODIFIED:20190520T145118Z
UID:12204-1558690200-1558706400@southwarkcyclists.org.uk
SUMMARY:Climate Strike on a bike: demonstrate with us
DESCRIPTION:LCC is organising a family friendly ‘Climate Strike on a Bike’ with Parents for the Future. Ride with us through the streets of London in support of School Strikers\, on what’s anticipated to be London’s biggest school climate strike yet. \nWe are running a feeder ride to get you safely to the demo. The meet-up on the south side is at Waterloo. Our ride starts at the ice cream kiosk at South Norwood Lakes at 9.30am and picks up strength at Crystal Palace Overground station (9.40am)\, College Gate at Dulwich Park (opposite Dulwich Gallery) at 10am; Green Dale at 10.20 am and the Albany Road/Portland St junction in Burgess Park at 10.40. Then up Quietway 7 to the south side of Waterloo Bridge using Blackfriars Road and Upper Ground. ETA 11am. \nClimate change is the biggest threat facing humanity. Read what we think here: https://lcc.org.uk/articles/join-the-climate-strike-on-a-bike and join the LCC campaign for a safer future here: https://membership.lcc.org.uk/join-our-climate-campaign
URL:https://southwarkcyclists.org.uk/events/climate-strike-on-a-bike-demo-outside-parliament/
LOCATION:south norwood lakes\, London\, County (optional)\, SE25 4AN\, United Kingdom
CATEGORIES:air quality,campaigning,demonstrate
ATTACH;FMTTYPE=image/jpeg:https://southwarkcyclists.org.uk/wp-content/uploads/2019/05/demo.jpg
END:VEVENT
END:VCALENDAR