BEGIN:VCALENDAR
VERSION:2.0
PRODID:-//Southwark Cyclists - ECPv6.15.11//NONSGML v1.0//EN
CALSCALE:GREGORIAN
METHOD:PUBLISH
X-ORIGINAL-URL:https://southwarkcyclists.org.uk
X-WR-CALDESC:Events for Southwark Cyclists
REFRESH-INTERVAL;VALUE=DURATION:PT1H
X-Robots-Tag:noindex
X-PUBLISHED-TTL:PT1H
BEGIN:VTIMEZONE
TZID:Europe/London
BEGIN:DAYLIGHT
TZOFFSETFROM:+0000
TZOFFSETTO:+0100
TZNAME:BST
DTSTART:20220327T010000
END:DAYLIGHT
BEGIN:STANDARD
TZOFFSETFROM:+0100
TZOFFSETTO:+0000
TZNAME:GMT
DTSTART:20221030T010000
END:STANDARD
BEGIN:DAYLIGHT
TZOFFSETFROM:+0000
TZOFFSETTO:+0100
TZNAME:BST
DTSTART:20230326T010000
END:DAYLIGHT
BEGIN:STANDARD
TZOFFSETFROM:+0100
TZOFFSETTO:+0000
TZNAME:GMT
DTSTART:20231029T010000
END:STANDARD
BEGIN:DAYLIGHT
TZOFFSETFROM:+0000
TZOFFSETTO:+0100
TZNAME:BST
DTSTART:20240331T010000
END:DAYLIGHT
BEGIN:STANDARD
TZOFFSETFROM:+0100
TZOFFSETTO:+0000
TZNAME:GMT
DTSTART:20241027T010000
END:STANDARD
BEGIN:DAYLIGHT
TZOFFSETFROM:+0000
TZOFFSETTO:+0100
TZNAME:BST
DTSTART:20250330T010000
END:DAYLIGHT
BEGIN:STANDARD
TZOFFSETFROM:+0100
TZOFFSETTO:+0000
TZNAME:GMT
DTSTART:20251026T010000
END:STANDARD
BEGIN:DAYLIGHT
TZOFFSETFROM:+0000
TZOFFSETTO:+0100
TZNAME:BST
DTSTART:20260329T010000
END:DAYLIGHT
BEGIN:STANDARD
TZOFFSETFROM:+0100
TZOFFSETTO:+0000
TZNAME:GMT
DTSTART:20261025T010000
END:STANDARD
END:VTIMEZONE
BEGIN:VEVENT
DTSTART;TZID=Europe/London:20230528T100000
DTEND;TZID=Europe/London:20230528T150000
DTSTAMP:20260425T034514
CREATED:20230511T212420Z
LAST-MODIFIED:20230514T190414Z
UID:20429-1685268000-1685286000@southwarkcyclists.org.uk
SUMMARY:Ride London Freecycle - Southwark Led Ride from Peckham
DESCRIPTION:The annual Ride London Freeecycle sees many Central London roads completely traffic free. Plus displays and Dr Bikes. This is an event for all cyclists\, young or old. There is always a great atmosphere as thousands of riders circulate the route. We are running our usual fully marshalled led ride. Start 10am from Peckham Rye Park and ending at Queen St\, near Mansion House. Ride takes about 45min. There will also be a led ride back at 3pm.
URL:https://southwarkcyclists.org.uk/events/ride-london-freecycle-southwark-led-ride-from-peckham/
LOCATION:Peckham Rye Park Cafe\, Strakers Road\, London\, SE15 3UA\, United Kingdom
CATEGORIES:Community Events,freecycle
ATTACH;FMTTYPE=image/jpeg:https://southwarkcyclists.org.uk/wp-content/uploads/2017/07/PrudentialRideLondon-people-pic.jpg
ORGANIZER;CN="Bruce Lynn":MAILTO:b.lynn@ucl.ac.uk
END:VEVENT
BEGIN:VEVENT
DTSTART;TZID=Europe/London:20240310T100000
DTEND;TZID=Europe/London:20240310T230000
DTSTAMP:20260425T034514
CREATED:20240304T095429Z
LAST-MODIFIED:20240304T162652Z
UID:23095-1710064800-1710111600@southwarkcyclists.org.uk
SUMMARY:Feeder Ride to C4 Celebration Ride
DESCRIPTION:Feeder Ride to C4 Celebration Ride\nFully mashalled ride from Peckham Rye Park to the start of the Celebration Ride marking the opening of the missing section of Cyclway 4 at Surrey Quays (details here).  We will take a safe route at an easy pace suitable for all ages and abilities. About 10km (6 miles). Will arrive at Cutty Sark in plenty of time for the celebratory ride to Southwark Park. For anyone who lould like a led ride back\, please gather next to the bandstand at 2pm. Simon S. leading.
URL:https://southwarkcyclists.org.uk/events/feeder-ride-to-c4-celebration-ride/
LOCATION:Peckham Rye Park Cafe\, Strakers Road\, London\, SE15 3UA\, United Kingdom
CATEGORIES:Community Events,Social Ride
ORGANIZER;CN="Simon Saville":MAILTO:simon.saville@gmail.com
END:VEVENT
BEGIN:VEVENT
DTSTART;TZID=Europe/London:20240310T120000
DTEND;TZID=Europe/London:20240310T160000
DTSTAMP:20260425T034514
CREATED:20240304T093504Z
LAST-MODIFIED:20240304T164421Z
UID:23090-1710072000-1710086400@southwarkcyclists.org.uk
SUMMARY:Cycleway 4 Celebration Ride
DESCRIPTION:Cycleway 4 Celebration Ride\nThe missing link on C4 at the Surrey Quays 1-way system is being finished this week. Completes a fully protected cycleway from Greenwich to Tower Bridge. Faster\, safer journays every day for thousands of cyclists. Come amd celebrate on a joyous ride on Sunday 10th March. Departing Cutty Sark at 12 noon and ending in Southwark Park. Arrive from 11am and get your bike checked by Dr Bike. Jointly organisnsed by Southwark\, Lewisham and Greenwich Cyclists please join us\, bring family and friends\, this should be a highlight of the year for cyclists in South London. Details of Southwark Cyclists feeder ride to the start (11am Peckham Rye Park Cafe) in the listings here.
URL:https://southwarkcyclists.org.uk/events/cycleway-4-celebration-ride/
LOCATION:Cutty Sark Gardens\, Next to the Cutty Sark\, near the foot tunnel\, London\, Southwark\, SE10 9HT\, United Kingdom
CATEGORIES:Community Events,Social Ride
ATTACH;FMTTYPE=image/jpeg:https://southwarkcyclists.org.uk/wp-content/uploads/2020/09/IMG_20200926_103839-scaled.jpg
ORGANIZER;CN="Simon Saville":MAILTO:simon.saville@gmail.com
END:VEVENT
BEGIN:VEVENT
DTSTART;TZID=Europe/London:20240428T120000
DTEND;TZID=Europe/London:20240428T160000
DTSTAMP:20260425T034514
CREATED:20240424T083015Z
LAST-MODIFIED:20240424T083015Z
UID:23440-1714305600-1714320000@southwarkcyclists.org.uk
SUMMARY:#LondonLovesCycling Ride
DESCRIPTION:#LondonLovesCycling Ride\nWe’re celebrating cycling on Sun April 28th\nPart of LCC’s #London Loves Cycling Campaign for the Mayoral elections.\n\n\nRide with us along C4 from Greenwich to Southwark Park: a fun ride for all ages and abilities. We are joining forces with Lewisham and Greenwich cyclists – and everyone is welcome.\nAssemble at the Cutty Sark\, to depart at 12 noon. Please Register at https://lcc.org.uk/events/lllcycleway4/\n\nSimon is leading a feeder ride from Peckham Rye Park cafe (The Round\, Straker’s Rd.\, SE15 3UE) at 11.00. 
URL:https://southwarkcyclists.org.uk/events/londonlovescycling-ride/
LOCATION:Cutty Sark Gardens\, Next to the Cutty Sark\, near the foot tunnel\, London\, Southwark\, SE10 9HT\, United Kingdom
CATEGORIES:campaigning,Community Events,cycle campaigning,London Rides,Social Ride
ATTACH;FMTTYPE=image/png:https://southwarkcyclists.org.uk/wp-content/uploads/2024/04/LCC_Cartoon.png
ORGANIZER;CN="Simon Saville":MAILTO:simon.saville@gmail.com
END:VEVENT
BEGIN:VEVENT
DTSTART;TZID=Europe/London:20250525T100000
DTEND;TZID=Europe/London:20250525T160000
DTSTAMP:20260425T034514
CREATED:20250513T122817Z
LAST-MODIFIED:20250513T173349Z
UID:26265-1748167200-1748188800@southwarkcyclists.org.uk
SUMMARY:London Cycling Festival
DESCRIPTION:Hello Festival\, goodbye Freecycle. New borough-based\, multi venue event being organized by London Cycling Campaign – the London Cycling Festival.  We will have a fully marshalled ride to the City of London hub where there will be lots going on. It will also be possible to take further led rides to a traffic free circuit in nearby Hoxton*. Ride starts 10am at The Round Café\, Peckham Rye Park and will call at the Stomping Grounds Café in Burgess Park at 10.20 am.  From 9am at the start in Peckham Rye Park there will be bike checks and small fixes to bikes.  There will be a limitd number of free vouchers for Lime Bikes available  Rgister for these and  collect at the start (allow time for finding a bike). \nActivities at City Festival site include: \n\nDr Bike and bike marking\nLed rides\nLive music\nStalls and more\nVintage bike rally – bring your pride and joy down and check-out the best old bikes in London\n\nJoin one of the family friendly led-rides: \n\nSquare Mile loop\nSunday Streets Hackney (Hoxton 2 mile traffic free circuit)\nVictoria Park\n\n*Note – register separately for further rides starting at Guildhall.
URL:https://southwarkcyclists.org.uk/events/london-cycling-festival/
LOCATION:Peckham Rye Park Cafe\, Strakers Road\, London\, SE15 3UA\, United Kingdom
CATEGORIES:Community Events,London Cycling Festival
ATTACH;FMTTYPE=image/jpeg:https://southwarkcyclists.org.uk/wp-content/uploads/2025/05/lcc25_lcf_hero_southwark.jpg
ORGANIZER;CN="Bruce Lynn":MAILTO:b.lynn@ucl.ac.uk
END:VEVENT
END:VCALENDAR