BEGIN:VCALENDAR
VERSION:2.0
PRODID:-//Southwark Cyclists - ECPv6.15.11//NONSGML v1.0//EN
CALSCALE:GREGORIAN
METHOD:PUBLISH
X-ORIGINAL-URL:https://southwarkcyclists.org.uk
X-WR-CALDESC:Events for Southwark Cyclists
REFRESH-INTERVAL;VALUE=DURATION:PT1H
X-Robots-Tag:noindex
X-PUBLISHED-TTL:PT1H
BEGIN:VTIMEZONE
TZID:Europe/London
BEGIN:DAYLIGHT
TZOFFSETFROM:+0000
TZOFFSETTO:+0100
TZNAME:BST
DTSTART:20210328T010000
END:DAYLIGHT
BEGIN:STANDARD
TZOFFSETFROM:+0100
TZOFFSETTO:+0000
TZNAME:GMT
DTSTART:20211031T010000
END:STANDARD
BEGIN:DAYLIGHT
TZOFFSETFROM:+0000
TZOFFSETTO:+0100
TZNAME:BST
DTSTART:20220327T010000
END:DAYLIGHT
BEGIN:STANDARD
TZOFFSETFROM:+0100
TZOFFSETTO:+0000
TZNAME:GMT
DTSTART:20221030T010000
END:STANDARD
BEGIN:DAYLIGHT
TZOFFSETFROM:+0000
TZOFFSETTO:+0100
TZNAME:BST
DTSTART:20230326T010000
END:DAYLIGHT
BEGIN:STANDARD
TZOFFSETFROM:+0100
TZOFFSETTO:+0000
TZNAME:GMT
DTSTART:20231029T010000
END:STANDARD
END:VTIMEZONE
BEGIN:VEVENT
DTSTART;TZID=Europe/London:20220327T100000
DTEND;TZID=Europe/London:20220327T120000
DTSTAMP:20260423T081013
CREATED:20220219T180238Z
LAST-MODIFIED:20220219T180238Z
UID:17525-1648375200-1648382400@southwarkcyclists.org.uk
SUMMARY:community speedwatch
DESCRIPTION:Werner will be holding the speedgun and pointing it at errant drivers. The fall in cars on the road and the consequent fall in congestion have increased speeds. Whoever could have guessed that wide empty roads would increase dangerous driving!!! \nRoads policing is rising steadily up the political agenda and CSW has got a part to play. Our data makes it harder for the police to ignore the speeding that goes on when they aren’t around. Cameras on cycle helmets make dangerous tail-gating that little less likely to go unobserved and unreported. \nSpeedwatch in Southwark is run by PCSO Kevin Phillips who is affable and keen. To join in email him at kevin.j.phillips@met.police.uk. He will listen to your views on good locations\, take a look for himself and arrange dates and times suitable for you. Enjoy. It’s good fun
URL:https://southwarkcyclists.org.uk/events/community-speedwatch-111/
LOCATION:Great Dover Street\, London\, SE1
CATEGORIES:Community Events,cycle campaigning,speedwatch
ATTACH;FMTTYPE=image/jpeg:https://southwarkcyclists.org.uk/wp-content/uploads/2022/01/catherine-on-speedwatch-scaled.jpeg
END:VEVENT
END:VCALENDAR