BEGIN:VCALENDAR
VERSION:2.0
PRODID:-//Southwark Cyclists - ECPv6.15.11//NONSGML v1.0//EN
CALSCALE:GREGORIAN
METHOD:PUBLISH
X-WR-CALNAME:Southwark Cyclists
X-ORIGINAL-URL:https://southwarkcyclists.org.uk
X-WR-CALDESC:Events for Southwark Cyclists
REFRESH-INTERVAL;VALUE=DURATION:PT1H
X-Robots-Tag:noindex
X-PUBLISHED-TTL:PT1H
BEGIN:VTIMEZONE
TZID:Europe/London
BEGIN:DAYLIGHT
TZOFFSETFROM:+0000
TZOFFSETTO:+0100
TZNAME:BST
DTSTART:20200329T010000
END:DAYLIGHT
BEGIN:STANDARD
TZOFFSETFROM:+0100
TZOFFSETTO:+0000
TZNAME:GMT
DTSTART:20201025T010000
END:STANDARD
BEGIN:DAYLIGHT
TZOFFSETFROM:+0000
TZOFFSETTO:+0100
TZNAME:BST
DTSTART:20210328T010000
END:DAYLIGHT
BEGIN:STANDARD
TZOFFSETFROM:+0100
TZOFFSETTO:+0000
TZNAME:GMT
DTSTART:20211031T010000
END:STANDARD
BEGIN:DAYLIGHT
TZOFFSETFROM:+0000
TZOFFSETTO:+0100
TZNAME:BST
DTSTART:20220327T010000
END:DAYLIGHT
BEGIN:STANDARD
TZOFFSETFROM:+0100
TZOFFSETTO:+0000
TZNAME:GMT
DTSTART:20221030T010000
END:STANDARD
END:VTIMEZONE
BEGIN:VEVENT
DTSTART;TZID=Europe/London:20210918T123000
DTEND;TZID=Europe/London:20210918T143000
DTSTAMP:20260423T161609
CREATED:20210909T190105Z
LAST-MODIFIED:20210909T190815Z
UID:16807-1631968200-1631975400@southwarkcyclists.org.uk
SUMMARY:Southwark Cyclists Picnic\, Sept 18th
DESCRIPTION:Saturday Sept 18th\, 12.30\, Southwark Park \nAn opportunity to meet face-to-face after all those Zooms! \nMeet in Southwark Park\, next to the bandstand and hope for decent weather. \nBring our own food and drink\, and maybe a bit extra for sharing. \nParticipate in a few silly competitions (who is the slowest cyclist in Southwark!?) \nBring friends and family \nGet this date in your diary: Sat Sept 18th\, 12.30\, Southwark Park. \nAny questions\, post them to the GoogleGroup\, https://groups.google.com/g/southwarkcyclists\, and we will try to answer them. \n—————————————————————————————————- \n  \n 
URL:https://southwarkcyclists.org.uk/events/southwark-cyclists-picnic-sept-18th/
LOCATION:Southwark Park Bandstand\, Southwark Park\, Gomm Rd\, London SE16 2TX\, London\, SE16 2TX\, United Kingdom
CATEGORIES:Community Events
ATTACH;FMTTYPE=image/jpeg:https://southwarkcyclists.org.uk/wp-content/uploads/2021/09/Bandstand.jpg
ORGANIZER;CN="Bruce Lynn":MAILTO:b.lynn@ucl.ac.uk
END:VEVENT
END:VCALENDAR