BEGIN:VCALENDAR
VERSION:2.0
PRODID:-//Southwark Cyclists - ECPv6.15.11//NONSGML v1.0//EN
CALSCALE:GREGORIAN
METHOD:PUBLISH
X-ORIGINAL-URL:https://southwarkcyclists.org.uk
X-WR-CALDESC:Events for Southwark Cyclists
REFRESH-INTERVAL;VALUE=DURATION:PT1H
X-Robots-Tag:noindex
X-PUBLISHED-TTL:PT1H
BEGIN:VTIMEZONE
TZID:Europe/London
BEGIN:DAYLIGHT
TZOFFSETFROM:+0000
TZOFFSETTO:+0100
TZNAME:BST
DTSTART:20190331T010000
END:DAYLIGHT
BEGIN:STANDARD
TZOFFSETFROM:+0100
TZOFFSETTO:+0000
TZNAME:GMT
DTSTART:20191027T010000
END:STANDARD
BEGIN:DAYLIGHT
TZOFFSETFROM:+0000
TZOFFSETTO:+0100
TZNAME:BST
DTSTART:20200329T010000
END:DAYLIGHT
BEGIN:STANDARD
TZOFFSETFROM:+0100
TZOFFSETTO:+0000
TZNAME:GMT
DTSTART:20201025T010000
END:STANDARD
BEGIN:DAYLIGHT
TZOFFSETFROM:+0000
TZOFFSETTO:+0100
TZNAME:BST
DTSTART:20210328T010000
END:DAYLIGHT
BEGIN:STANDARD
TZOFFSETFROM:+0100
TZOFFSETTO:+0000
TZNAME:GMT
DTSTART:20211031T010000
END:STANDARD
END:VTIMEZONE
BEGIN:VEVENT
DTSTART;TZID=Europe/London:20200429T120000
DTEND;TZID=Europe/London:20200429T143000
DTSTAMP:20260424T184749
CREATED:20200228T084002Z
LAST-MODIFIED:20200424T173916Z
UID:14407-1588161600-1588170600@southwarkcyclists.org.uk
SUMMARY:Cancelled: Bring 'n Fix It in Walworth (bikes included)
DESCRIPTION:We have a great mechanic at this Bring ‘n Fix it session at the Walworth Living Room (see pic). Bring a bike (any condition) and they will help you get it into better shape. There are guys fixing lots of other things too so you can bring those along as well. Despite the attractive-looking pavement in the pic\, this session is highly likely to be indoors.
URL:https://southwarkcyclists.org.uk/events/bring-n-fix-it-in-walworth-bikes-included/
LOCATION:Walworth Living Room\, Surrey Square\, London\, County (optional)\, SE17 2JU\, United Kingdom
CATEGORIES:bike maintenance,Community Events,Dr Bike
ATTACH;FMTTYPE=image/jpeg:https://southwarkcyclists.org.uk/wp-content/uploads/2020/02/walworth-living-room.jpg
END:VEVENT
END:VCALENDAR