BEGIN:VCALENDAR
VERSION:2.0
PRODID:-//Southwark Cyclists - ECPv6.15.11//NONSGML v1.0//EN
CALSCALE:GREGORIAN
METHOD:PUBLISH
X-WR-CALNAME:Southwark Cyclists
X-ORIGINAL-URL:https://southwarkcyclists.org.uk
X-WR-CALDESC:Events for Southwark Cyclists
REFRESH-INTERVAL;VALUE=DURATION:PT1H
X-Robots-Tag:noindex
X-PUBLISHED-TTL:PT1H
BEGIN:VTIMEZONE
TZID:Europe/London
BEGIN:DAYLIGHT
TZOFFSETFROM:+0000
TZOFFSETTO:+0100
TZNAME:BST
DTSTART:20190331T010000
END:DAYLIGHT
BEGIN:STANDARD
TZOFFSETFROM:+0100
TZOFFSETTO:+0000
TZNAME:GMT
DTSTART:20191027T010000
END:STANDARD
BEGIN:DAYLIGHT
TZOFFSETFROM:+0000
TZOFFSETTO:+0100
TZNAME:BST
DTSTART:20200329T010000
END:DAYLIGHT
BEGIN:STANDARD
TZOFFSETFROM:+0100
TZOFFSETTO:+0000
TZNAME:GMT
DTSTART:20201025T010000
END:STANDARD
BEGIN:DAYLIGHT
TZOFFSETFROM:+0000
TZOFFSETTO:+0100
TZNAME:BST
DTSTART:20210328T010000
END:DAYLIGHT
BEGIN:STANDARD
TZOFFSETFROM:+0100
TZOFFSETTO:+0000
TZNAME:GMT
DTSTART:20211031T010000
END:STANDARD
END:VTIMEZONE
BEGIN:VEVENT
DTSTART;TZID=Europe/London:20200109T100000
DTEND;TZID=Europe/London:20200109T120000
DTSTAMP:20260424T225921
CREATED:20191219T133051Z
LAST-MODIFIED:20191219T133051Z
UID:13437-1578564000-1578571200@southwarkcyclists.org.uk
SUMMARY:community speedwatch
DESCRIPTION:New Year but the speed limit hasn’t changed. A lot of speeding goes on along this road. Our local volunteers are doing their bit to persuade drivers into more law-abiding ways. The general idea is here: https://southwarkcyclists.org.uk/66-in-a-20mph-zone/ and the man to contact if you want to join in is PCSO Kevin Phillips on kevin.j.phillips@met.police.uk
URL:https://southwarkcyclists.org.uk/events/community-speedwatch-66/
LOCATION:salter road/lagado mews\, London\, SE16 5PD\, United Kingdom
CATEGORIES:Community Events,community roadwatch,road safety
ATTACH;FMTTYPE=image/jpeg:https://southwarkcyclists.org.uk/wp-content/uploads/2019/06/community-speedwatch-logo.jpg
END:VEVENT
BEGIN:VEVENT
DTSTART;TZID=Europe/London:20200124T100000
DTEND;TZID=Europe/London:20200124T120000
DTSTAMP:20260424T225921
CREATED:20191219T133948Z
LAST-MODIFIED:20191219T133948Z
UID:13439-1579860000-1579867200@southwarkcyclists.org.uk
SUMMARY:community speedwatch
DESCRIPTION:The team are concentrating on this bit of fast road which is used as a cut through by every van driver in south London. It’s also used by young people from Dulwich College and Kingswood School. And is made still more fun by a blind left turn. To show your support email PCSO Kevin Phillips on kevin.j.phillips@met.police.uk\, He will be very pleased to hear from you.
URL:https://southwarkcyclists.org.uk/events/community-speedwatch-67/
LOCATION:Dulwich Wood Park\, SE19 1XQ\, United Kingdom
CATEGORIES:Community Events,community roadwatch,road safety
ATTACH;FMTTYPE=image/jpeg:https://southwarkcyclists.org.uk/wp-content/uploads/2019/06/community-speedwatch-logo.jpg
END:VEVENT
BEGIN:VEVENT
DTSTART;TZID=Europe/London:20200129T130000
DTEND;TZID=Europe/London:20200129T150000
DTSTAMP:20260424T225921
CREATED:20191219T083134Z
LAST-MODIFIED:20200125T073346Z
UID:13425-1580302800-1580310000@southwarkcyclists.org.uk
SUMMARY:Dr Bike at Walworth Living Room
DESCRIPTION:Reduce\, re-use\, re-cycle. How about Repair? This is a skill-sharing event and we will be sending our pro-mechanic to share his skills and teach other people to fettle their bikes. This is a community event to draw on skills in the community to mend stuff and get stuff mended. My grandad used to mend his family’s shoes and clocks. My aunt made clothes for four children. Fixing broken things is very satisfying. The idea is to value some of those skills again. \nIt’s being held at the Walworth Living Room (see pic above) but probably indoors rather than out. This is a new community space in Walworth\, for eating\, learning\, playing\, working\, sharing a cup of tea and getting to know your neighbours. The heart of the building is the community kitchen\, with shared activity\, meeting and office spaces. \nWe are just working on the bike-fixing bits but anyone with a broken thing or skills in mending other (not too enormous) things should phone 020 7703 3803 to contact the organisers or just come along.
URL:https://southwarkcyclists.org.uk/events/dr-bike-at-walworth-living-room/
LOCATION:Walworth Living Room\, Surrey Square\, London\, County (optional)\, SE17 2JU\, United Kingdom
CATEGORIES:bike maintenance,Community Events,Dr Bike
ATTACH;FMTTYPE=image/jpeg:https://southwarkcyclists.org.uk/wp-content/uploads/2019/12/Living-room-large-image-digital-4-768x512-1.jpg
END:VEVENT
BEGIN:VEVENT
DTSTART;TZID=Europe/London:20200129T140000
DTEND;TZID=Europe/London:20200129T160000
DTSTAMP:20260424T225921
CREATED:20191219T134754Z
LAST-MODIFIED:20191219T134754Z
UID:13441-1580306400-1580313600@southwarkcyclists.org.uk
SUMMARY:community speedwatch
DESCRIPTION:A Southwark Cyclist volunteer will be standing beside the road with a speed gun and a PCSO in full uniform beside him. Both of them have to wear hi-vis (because rules). Still drivers don’t spot them. Just bear that in mind when you are wondering if a driver has seen you or not. To join in mail PCSO Kevin Phillips on kevin.j.phillips@met.police.uk. He will find lots of things for you to do.
URL:https://southwarkcyclists.org.uk/events/community-speedwatch-68/
LOCATION:sydenham Hill\, crescent wood road\, London\, SE26 6ND\, United Kingdom
CATEGORIES:Community Events,community roadwatch,road safety
ATTACH;FMTTYPE=image/jpeg:https://southwarkcyclists.org.uk/wp-content/uploads/2019/06/community-speedwatch-logo.jpg
END:VEVENT
END:VCALENDAR