BEGIN:VCALENDAR
VERSION:2.0
PRODID:-//Southwark Cyclists - ECPv6.15.11//NONSGML v1.0//EN
CALSCALE:GREGORIAN
METHOD:PUBLISH
X-WR-CALNAME:Southwark Cyclists
X-ORIGINAL-URL:https://southwarkcyclists.org.uk
X-WR-CALDESC:Events for Southwark Cyclists
REFRESH-INTERVAL;VALUE=DURATION:PT1H
X-Robots-Tag:noindex
X-PUBLISHED-TTL:PT1H
BEGIN:VTIMEZONE
TZID:UTC
BEGIN:STANDARD
TZOFFSETFROM:+0000
TZOFFSETTO:+0000
TZNAME:UTC
DTSTART:20150101T000000
END:STANDARD
END:VTIMEZONE
BEGIN:VEVENT
DTSTART;TZID=UTC:20161116T074500
DTEND;TZID=UTC:20161116T083000
DTSTAMP:20260421T213443
CREATED:20161104T064910Z
LAST-MODIFIED:20161114T152045Z
UID:5786-1479282300-1479285000@southwarkcyclists.org.uk
SUMMARY:Bike Train: Winter Timetable: new dates and times
DESCRIPTION:The award-winning Southwark Cyclists Bike Train starts the first day of its Winter Timetable today. All the arrangements are the same but the service will run once a month till Spring. The arrival of Spring will be determined empirically. We will conduct a careful and thorough examination of the weather. \n\n\nWe start at 7.45am from Nunhead Station and pick up riders from Peckham Rye station (from the bike stands behind McDonalds) at 7.55am. We are joined by riders from Denmark Hill who leave that station at 7.55am (from outside the cafe in Windsor Walk) and join the train in Burgess Park. \nWe cycle through two parks\, north along a traffic-calmed backstreet\, onto the pavement-cycling lanes along the New Kent Road\, around the Elephant and Castle bypass and then onto the lovely new TfL segregation all the way to Blackfriars. Arrival time approx 8.30am. On time every time. Fun and free. \nTo book your seat at Denmark Hill text Liz Eden on 07814 515 715. Don’t turn up without warning at Denmark Hill because this branch line will be demand-led (management speak for “may not run if there are no passengers”). For Peckham or Nunhead contact me on 07842 640 207 — or don’t book anything at all and just turn up. All welcome. Free. \nNext definite date: December 14th. Same arrangements. \nThe route is here: \n \n\nhttps://www.google.com/maps/d/u/0/viewer?mid=1Pq8aj3Ylf1S9eg44QbGvAD4qSbM&ll=51.49830130383333%2C-0.0878830999999991&z=12\n \n+ GOOGLE CALENDAR+ ICAL EXPORT
URL:https://southwarkcyclists.org.uk/events/bike-train-winter-timetable/
LOCATION:Nunhead Station\, Gibbon Road\, London\, Se15 3XE\, United Kingdom
CATEGORIES:bike train
END:VEVENT
END:VCALENDAR